BEGIN:VCALENDAR
VERSION:2.0
PRODID:-//“Coming Up Brass” Live Band for Weddings and Events - ECPv6.15.20//NONSGML v1.0//EN
CALSCALE:GREGORIAN
METHOD:PUBLISH
X-ORIGINAL-URL:https://comingupbrass.com
X-WR-CALDESC:Events for “Coming Up Brass” Live Band for Weddings and Events
REFRESH-INTERVAL;VALUE=DURATION:PT1H
X-Robots-Tag:noindex
X-PUBLISHED-TTL:PT1H
BEGIN:VTIMEZONE
TZID:America/New_York
BEGIN:DAYLIGHT
TZOFFSETFROM:-0500
TZOFFSETTO:-0400
TZNAME:EDT
DTSTART:20240310T070000
END:DAYLIGHT
BEGIN:STANDARD
TZOFFSETFROM:-0400
TZOFFSETTO:-0500
TZNAME:EST
DTSTART:20241103T060000
END:STANDARD
BEGIN:DAYLIGHT
TZOFFSETFROM:-0500
TZOFFSETTO:-0400
TZNAME:EDT
DTSTART:20250309T070000
END:DAYLIGHT
BEGIN:STANDARD
TZOFFSETFROM:-0400
TZOFFSETTO:-0500
TZNAME:EST
DTSTART:20251102T060000
END:STANDARD
BEGIN:DAYLIGHT
TZOFFSETFROM:-0500
TZOFFSETTO:-0400
TZNAME:EDT
DTSTART:20260308T070000
END:DAYLIGHT
BEGIN:STANDARD
TZOFFSETFROM:-0400
TZOFFSETTO:-0500
TZNAME:EST
DTSTART:20261101T060000
END:STANDARD
END:VTIMEZONE
BEGIN:VEVENT
DTSTART;TZID=America/New_York:20251025T180000
DTEND;TZID=America/New_York:20251025T200000
DTSTAMP:20260421T105305
CREATED:20250318T023332Z
LAST-MODIFIED:20251029T150036Z
UID:2218-1761415200-1761422400@comingupbrass.com
SUMMARY:Summer Concert Series - Cramerton
DESCRIPTION:We’ll be performing for the Town of Cramerton for the first time in years. It’ll be at their Centennial Center from 6:00 pm – 8:00 pm. Scott Splawn providing sound and lighting.
URL:https://comingupbrass.com/calendar_event/cramerton-251025
LOCATION:Cramerton Centennial Center\, 145 8th Ave\, Cramerton\, North Carolina\, 28032\, United States
CATEGORIES:Public Event
END:VEVENT
END:VCALENDAR