BEGIN:VCALENDAR
VERSION:2.0
PRODID:-//“Coming Up Brass” Live Band for Weddings and Events - ECPv6.15.20//NONSGML v1.0//EN
CALSCALE:GREGORIAN
METHOD:PUBLISH
X-ORIGINAL-URL:https://comingupbrass.com
X-WR-CALDESC:Events for “Coming Up Brass” Live Band for Weddings and Events
REFRESH-INTERVAL;VALUE=DURATION:PT1H
X-Robots-Tag:noindex
X-PUBLISHED-TTL:PT1H
BEGIN:VTIMEZONE
TZID:America/New_York
BEGIN:DAYLIGHT
TZOFFSETFROM:-0500
TZOFFSETTO:-0400
TZNAME:EDT
DTSTART:20240310T070000
END:DAYLIGHT
BEGIN:STANDARD
TZOFFSETFROM:-0400
TZOFFSETTO:-0500
TZNAME:EST
DTSTART:20241103T060000
END:STANDARD
BEGIN:DAYLIGHT
TZOFFSETFROM:-0500
TZOFFSETTO:-0400
TZNAME:EDT
DTSTART:20250309T070000
END:DAYLIGHT
BEGIN:STANDARD
TZOFFSETFROM:-0400
TZOFFSETTO:-0500
TZNAME:EST
DTSTART:20251102T060000
END:STANDARD
BEGIN:DAYLIGHT
TZOFFSETFROM:-0500
TZOFFSETTO:-0400
TZNAME:EDT
DTSTART:20260308T070000
END:DAYLIGHT
BEGIN:STANDARD
TZOFFSETFROM:-0400
TZOFFSETTO:-0500
TZNAME:EST
DTSTART:20261101T060000
END:STANDARD
END:VTIMEZONE
BEGIN:VEVENT
DTSTART;TZID=America/New_York:20251003T173000
DTEND;TZID=America/New_York:20251003T203000
DTSTAMP:20260421T091542
CREATED:20250318T224922Z
LAST-MODIFIED:20250827T185956Z
UID:2222-1759512600-1759523400@comingupbrass.com
SUMMARY:Private Event: Tree Tops Retirement Community - Lancaster\, SC
DESCRIPTION:Outdoor in the amphitheater again
URL:https://comingupbrass.com/calendar_event/tree-tops-retirement-community
LOCATION:Tree Tops Retirement Community\, 2198 Acadia Falls Ln\, Lancaster\, South Carolina\, 29720\, United States
CATEGORIES:Private Event
END:VEVENT
BEGIN:VEVENT
DTSTART;TZID=America/New_York:20251010T183000
DTEND;TZID=America/New_York:20251010T210000
DTSTAMP:20260421T091542
CREATED:20250318T022855Z
LAST-MODIFIED:20251029T150116Z
UID:2214-1760121000-1760130000@comingupbrass.com
SUMMARY:Concert On The Lawn - Belmont
DESCRIPTION:Rent Payment to the Church
URL:https://comingupbrass.com/calendar_event/holycomforter-251011
LOCATION:Luthern Church of the Holy Comforter\, 216 N Main Street\, Belmont\, North Carolina\, 28012\, United States
CATEGORIES:Public Event
END:VEVENT
BEGIN:VEVENT
DTSTART;TZID=America/New_York:20251025T180000
DTEND;TZID=America/New_York:20251025T200000
DTSTAMP:20260421T091542
CREATED:20250318T023332Z
LAST-MODIFIED:20251029T150036Z
UID:2218-1761415200-1761422400@comingupbrass.com
SUMMARY:Summer Concert Series - Cramerton
DESCRIPTION:We’ll be performing for the Town of Cramerton for the first time in years. It’ll be at their Centennial Center from 6:00 pm – 8:00 pm. Scott Splawn providing sound and lighting.
URL:https://comingupbrass.com/calendar_event/cramerton-251025
LOCATION:Cramerton Centennial Center\, 145 8th Ave\, Cramerton\, North Carolina\, 28032\, United States
CATEGORIES:Public Event
END:VEVENT
END:VCALENDAR